BEGIN:VCALENDAR
VERSION:2.0
PRODID:-//Hartley&#039;s Hawgs - ECPv6.15.18//NONSGML v1.0//EN
CALSCALE:GREGORIAN
METHOD:PUBLISH
X-WR-CALNAME:Hartley&#039;s Hawgs
X-ORIGINAL-URL:https://hartleyshawgs.com
X-WR-CALDESC:Events for Hartley&#039;s Hawgs
REFRESH-INTERVAL;VALUE=DURATION:PT1H
X-Robots-Tag:noindex
X-PUBLISHED-TTL:PT1H
BEGIN:VTIMEZONE
TZID:America/New_York
BEGIN:DAYLIGHT
TZOFFSETFROM:-0500
TZOFFSETTO:-0400
TZNAME:EDT
DTSTART:20210314T070000
END:DAYLIGHT
BEGIN:STANDARD
TZOFFSETFROM:-0400
TZOFFSETTO:-0500
TZNAME:EST
DTSTART:20211107T060000
END:STANDARD
BEGIN:DAYLIGHT
TZOFFSETFROM:-0500
TZOFFSETTO:-0400
TZNAME:EDT
DTSTART:20220313T070000
END:DAYLIGHT
BEGIN:STANDARD
TZOFFSETFROM:-0400
TZOFFSETTO:-0500
TZNAME:EST
DTSTART:20221106T060000
END:STANDARD
BEGIN:DAYLIGHT
TZOFFSETFROM:-0500
TZOFFSETTO:-0400
TZNAME:EDT
DTSTART:20230312T070000
END:DAYLIGHT
BEGIN:STANDARD
TZOFFSETFROM:-0400
TZOFFSETTO:-0500
TZNAME:EST
DTSTART:20231105T060000
END:STANDARD
END:VTIMEZONE
BEGIN:VEVENT
DTSTART;TZID=America/New_York:20220604T060000
DTEND;TZID=America/New_York:20220604T150000
DTSTAMP:20260423T094207
CREATED:20211110T010615Z
LAST-MODIFIED:20211110T010616Z
UID:4764-1654322400-1654354800@hartleyshawgs.com
SUMMARY:SAF State HS Championship
DESCRIPTION:SAF State Tourney on Ohio River (Gallipolis).  Top 10% qualify for MLF National Championship.
URL:https://hartleyshawgs.com/event/saf-state-hs-championship/
LOCATION:Gallipolis\, Ohio\, Gallipolis\, Ohio
CATEGORIES:Tournaments
END:VEVENT
BEGIN:VEVENT
DTSTART;TZID=America/New_York:20220611T060000
DTEND;TZID=America/New_York:20220611T160000
DTSTAMP:20260423T094207
CREATED:20211110T010823Z
LAST-MODIFIED:20211110T010824Z
UID:4768-1654927200-1654963200@hartleyshawgs.com
SUMMARY:BASS HS Open
DESCRIPTION:BASS HS Open on Saginaw Bay.  Top Finishers qualify for BASS National Championship.
URL:https://hartleyshawgs.com/event/bass-hs-open/
CATEGORIES:Tournaments
END:VEVENT
BEGIN:VEVENT
DTSTART;TZID=America/New_York:20220618T050000
DTEND;TZID=America/New_York:20220618T170000
DTSTAMP:20260423T094207
CREATED:20220122T182127Z
LAST-MODIFIED:20220122T182128Z
UID:5042-1655528400-1655571600@hartleyshawgs.com
SUMMARY:FOM 2022 Event #1 - Deer Creek
DESCRIPTION:Event #1 of the FOM High School Series at Deer Creek Lake – Marina Ramp.  Series winner earns qualification into 2023 SAF National Fishing Championship.
URL:https://hartleyshawgs.com/event/fom-2022-event-1-deer-creek/
CATEGORIES:Tournaments
END:VEVENT
BEGIN:VEVENT
DTSTART;TZID=America/New_York:20220622T080000
DTEND;TZID=America/New_York:20220625T170000
DTSTAMP:20260423T094207
CREATED:20211110T011035Z
LAST-MODIFIED:20211110T011036Z
UID:4770-1655884800-1656176400@hartleyshawgs.com
SUMMARY:SAF HS National Championship and World Finals
DESCRIPTION:SAF HS Fishing National Championship and World Finals being held on Pickwick Lake.
URL:https://hartleyshawgs.com/event/saf-hs-national-championship-and-world-finals/
LOCATION:Pickwick Lake\, Florence\, Alabama
CATEGORIES:Tournaments
END:VEVENT
END:VCALENDAR