BEGIN:VCALENDAR
VERSION:2.0
PRODID:-//Hartley&#039;s Hawgs - ECPv6.15.18//NONSGML v1.0//EN
CALSCALE:GREGORIAN
METHOD:PUBLISH
X-WR-CALNAME:Hartley&#039;s Hawgs
X-ORIGINAL-URL:https://hartleyshawgs.com
X-WR-CALDESC:Events for Hartley&#039;s Hawgs
REFRESH-INTERVAL;VALUE=DURATION:PT1H
X-Robots-Tag:noindex
X-PUBLISHED-TTL:PT1H
BEGIN:VTIMEZONE
TZID:America/New_York
BEGIN:DAYLIGHT
TZOFFSETFROM:-0500
TZOFFSETTO:-0400
TZNAME:EDT
DTSTART:20230312T070000
END:DAYLIGHT
BEGIN:STANDARD
TZOFFSETFROM:-0400
TZOFFSETTO:-0500
TZNAME:EST
DTSTART:20231105T060000
END:STANDARD
BEGIN:DAYLIGHT
TZOFFSETFROM:-0500
TZOFFSETTO:-0400
TZNAME:EDT
DTSTART:20240310T070000
END:DAYLIGHT
BEGIN:STANDARD
TZOFFSETFROM:-0400
TZOFFSETTO:-0500
TZNAME:EST
DTSTART:20241103T060000
END:STANDARD
BEGIN:DAYLIGHT
TZOFFSETFROM:-0500
TZOFFSETTO:-0400
TZNAME:EDT
DTSTART:20250309T070000
END:DAYLIGHT
BEGIN:STANDARD
TZOFFSETFROM:-0400
TZOFFSETTO:-0500
TZNAME:EST
DTSTART:20251102T060000
END:STANDARD
BEGIN:DAYLIGHT
TZOFFSETFROM:-0500
TZOFFSETTO:-0400
TZNAME:EDT
DTSTART:20260308T070000
END:DAYLIGHT
BEGIN:STANDARD
TZOFFSETFROM:-0400
TZOFFSETTO:-0500
TZNAME:EST
DTSTART:20261101T060000
END:STANDARD
BEGIN:DAYLIGHT
TZOFFSETFROM:-0500
TZOFFSETTO:-0400
TZNAME:EDT
DTSTART:20270314T070000
END:DAYLIGHT
BEGIN:STANDARD
TZOFFSETFROM:-0400
TZOFFSETTO:-0500
TZNAME:EST
DTSTART:20271107T060000
END:STANDARD
END:VTIMEZONE
BEGIN:VEVENT
DTSTART;TZID=America/New_York:20240511T050000
DTEND;TZID=America/New_York:20240511T160000
DTSTAMP:20260423T171226
CREATED:20240106T043249Z
LAST-MODIFIED:20240106T043250Z
UID:10662-1715403600-1715443200@hartleyshawgs.com
SUMMARY:2024 Ohio Bass Federation Jr State Championship
DESCRIPTION:OBF Jr State Championship for a chance to qualify for TBF Junior National Championship.
URL:https://hartleyshawgs.com/event/2024-ohio-bass-federation-jr-state-championship/
LOCATION:Alum Creek Lake – Galena Ramp\, 4550 Africa Road\, Galena\, Ohio\, 43021\, United States
CATEGORIES:Tournaments
END:VEVENT
BEGIN:VEVENT
DTSTART;TZID=America/New_York:20240601T050000
DTEND;TZID=America/New_York:20240602T170000
DTSTAMP:20260423T171226
CREATED:20240106T042941Z
LAST-MODIFIED:20240106T043427Z
UID:10660-1717218000-1717347600@hartleyshawgs.com
SUMMARY:2024 Ohio Bass Nation HS/Jr State Championship
DESCRIPTION:2024 OBN State Championship for both Jr and HS Anglers.  Top Finishers in tourney qualify for BASS National Championship.
URL:https://hartleyshawgs.com/event/2024-ohio-bass-nation-hs-jr-state-championship/
LOCATION:Rocky Fork Lake
CATEGORIES:Tournaments
END:VEVENT
BEGIN:VEVENT
DTSTART;TZID=America/New_York:20240811T050000
DTEND;TZID=America/New_York:20240811T170000
DTSTAMP:20260423T171226
CREATED:20240106T043644Z
LAST-MODIFIED:20240106T043646Z
UID:10666-1723352400-1723395600@hartleyshawgs.com
SUMMARY:2024 Ohio Bass Federation HS State Championship
DESCRIPTION:2024 OBF HS State Championship.  Fish for assistance in future entries into OBF tourneys and/or prizes.
URL:https://hartleyshawgs.com/event/2024-ohio-bass-federation-hs-state-championship/
LOCATION:Lake Erie – Shelby St Ramp\, 101 Shelby Street\, Sandusky\, Ohio\, 44870\, United States
CATEGORIES:Tournaments
END:VEVENT
BEGIN:VEVENT
DTSTART;TZID=America/New_York:20250510T060000
DTEND;TZID=America/New_York:20250510T150000
DTSTAMP:20260423T171226
CREATED:20241017T005746Z
LAST-MODIFIED:20241017T005748Z
UID:13217-1746856800-1746889200@hartleyshawgs.com
SUMMARY:2025 OBF Youth State Championship
DESCRIPTION:The 2025 OBF Youth State Championship being held at Indian Lake
URL:https://hartleyshawgs.com/event/2025-obf-youth-state-championship/
LOCATION:Indian Lake
CATEGORIES:Events,Tournaments
END:VEVENT
BEGIN:VEVENT
DTSTART;TZID=America/New_York:20250907T060000
DTEND;TZID=America/New_York:20250907T160000
DTSTAMP:20260423T171227
CREATED:20250812T002335Z
LAST-MODIFIED:20250812T002337Z
UID:16593-1757224800-1757260800@hartleyshawgs.com
SUMMARY:Ohio Bass Nation Team Trail Event #1 - Buckeye Lake
DESCRIPTION:OBN Team Trail Event#1 – Buckeye Lake.  This is not a Club Supported event. Club members will have appropriate membership through club but will need to arrange for boat captain\, tournament registration\, tournament registration fees\, travel costs\, and any lodging required on their own.  For more information goto OBN Youth Facebook Page or Ohio Bass Nation Website.
URL:https://hartleyshawgs.com/event/ohio-bass-nation-team-trail-event-1-buckeye-lake/
LOCATION:Buckeye Lake
CATEGORIES:Tournaments
END:VEVENT
BEGIN:VEVENT
DTSTART;TZID=America/New_York:20251012T060000
DTEND;TZID=America/New_York:20251012T160000
DTSTAMP:20260423T171227
CREATED:20250812T002640Z
LAST-MODIFIED:20250812T002756Z
UID:16597-1760248800-1760284800@hartleyshawgs.com
SUMMARY:Ohio Bass Nation Team Trail Event #2 – Lake Erie
DESCRIPTION:OBN Team Trail Event #2 – Lake Erie (Portage River).  This is not a Club Supported event. Club members will have appropriate membership through club but will need to arrange for boat captain\, tournament registration\, tournament registration fees\, travel costs\, and any lodging required on their own.  For more information goto OBN Youth Facebook Page or Ohio Bass Nation Website.
URL:https://hartleyshawgs.com/event/ohio-bass-nation-team-trail-event-2-lake-erie/
LOCATION:Lake Erie
CATEGORIES:Tournaments
END:VEVENT
BEGIN:VEVENT
DTSTART;TZID=America/New_York:20260419T060000
DTEND;TZID=America/New_York:20260419T160000
DTSTAMP:20260423T171227
CREATED:20250812T003041Z
LAST-MODIFIED:20250812T003043Z
UID:16602-1776578400-1776614400@hartleyshawgs.com
SUMMARY:Ohio Bass Nation Team Trail Event #3 – Rocky Fork
DESCRIPTION:OBN Team Trail Event #3 – Rocky Fork.  This is not a Club Supported event. Club members will have appropriate membership through club but will need to arrange for boat captain\, tournament registration\, tournament registration fees\, travel costs\, and any lodging required on their own.  For more information goto OBN Youth Facebook Page or Ohio Bass Nation Website.
URL:https://hartleyshawgs.com/event/ohio-bass-nation-team-trail-event-3-rocky-fork/
LOCATION:Rocky Fork Lake
CATEGORIES:Tournaments
END:VEVENT
BEGIN:VEVENT
DTSTART;TZID=America/New_York:20260503T060000
DTEND;TZID=America/New_York:20260503T160000
DTSTAMP:20260423T171227
CREATED:20250812T003436Z
LAST-MODIFIED:20250812T003437Z
UID:16604-1777788000-1777824000@hartleyshawgs.com
SUMMARY:Ohio Bass Nation Team Trail Event #4 – Grand Lake St. Mary's
DESCRIPTION:OBN Team Trail Event #4 – Grand Lake St. Mary’s.  This is not a Club Supported event. Club members will have appropriate membership through club but will need to arrange for boat captain\, tournament registration\, tournament registration fees\, travel costs\, and any lodging required on their own.  For more information goto OBN Youth Facebook Page or Ohio Bass Nation Website.
URL:https://hartleyshawgs.com/event/ohio-bass-nation-team-trail-event-4-grand-lake-st-marys/
LOCATION:Grand Lake St Mary
CATEGORIES:Tournaments
END:VEVENT
BEGIN:VEVENT
DTSTART;TZID=America/New_York:20260530T060000
DTEND;TZID=America/New_York:20260531T160000
DTSTAMP:20260423T171227
CREATED:20250812T004027Z
LAST-MODIFIED:20250812T004029Z
UID:16606-1780120800-1780243200@hartleyshawgs.com
SUMMARY:Ohio Bass Nation State Championship - Salt Fork
DESCRIPTION:State Championship for both High School and Junior Anglers located on Salt Fork Lake.  This is a club assisted event.  The club will work towards organizing boat captains and other logistics for this tournament.  However\, Boat Captains are NOT Guaranteed for all club anglers.
URL:https://hartleyshawgs.com/event/ohio-bass-nation-state-championship-salt-fork/
LOCATION:Salt Fork Lake
CATEGORIES:Tournaments
END:VEVENT
END:VCALENDAR