BEGIN:VCALENDAR
VERSION:2.0
PRODID:-//Hartley&#039;s Hawgs - ECPv6.15.18//NONSGML v1.0//EN
CALSCALE:GREGORIAN
METHOD:PUBLISH
X-WR-CALNAME:Hartley&#039;s Hawgs
X-ORIGINAL-URL:https://hartleyshawgs.com
X-WR-CALDESC:Events for Hartley&#039;s Hawgs
REFRESH-INTERVAL;VALUE=DURATION:PT1H
X-Robots-Tag:noindex
X-PUBLISHED-TTL:PT1H
BEGIN:VTIMEZONE
TZID:America/New_York
BEGIN:DAYLIGHT
TZOFFSETFROM:-0500
TZOFFSETTO:-0400
TZNAME:EDT
DTSTART:20250309T070000
END:DAYLIGHT
BEGIN:STANDARD
TZOFFSETFROM:-0400
TZOFFSETTO:-0500
TZNAME:EST
DTSTART:20251102T060000
END:STANDARD
BEGIN:DAYLIGHT
TZOFFSETFROM:-0500
TZOFFSETTO:-0400
TZNAME:EDT
DTSTART:20260308T070000
END:DAYLIGHT
BEGIN:STANDARD
TZOFFSETFROM:-0400
TZOFFSETTO:-0500
TZNAME:EST
DTSTART:20261101T060000
END:STANDARD
BEGIN:DAYLIGHT
TZOFFSETFROM:-0500
TZOFFSETTO:-0400
TZNAME:EDT
DTSTART:20270314T070000
END:DAYLIGHT
BEGIN:STANDARD
TZOFFSETFROM:-0400
TZOFFSETTO:-0500
TZNAME:EST
DTSTART:20271107T060000
END:STANDARD
END:VTIMEZONE
BEGIN:VEVENT
DTSTART;TZID=America/New_York:20260530T060000
DTEND;TZID=America/New_York:20260531T160000
DTSTAMP:20260424T050048
CREATED:20250812T004027Z
LAST-MODIFIED:20250812T004029Z
UID:16606-1780120800-1780243200@hartleyshawgs.com
SUMMARY:Ohio Bass Nation State Championship - Salt Fork
DESCRIPTION:State Championship for both High School and Junior Anglers located on Salt Fork Lake.  This is a club assisted event.  The club will work towards organizing boat captains and other logistics for this tournament.  However\, Boat Captains are NOT Guaranteed for all club anglers.
URL:https://hartleyshawgs.com/event/ohio-bass-nation-state-championship-salt-fork/
LOCATION:Salt Fork Lake
CATEGORIES:Tournaments
END:VEVENT
END:VCALENDAR