BEGIN:VCALENDAR
VERSION:2.0
PRODID:-//Hartley&#039;s Hawgs - ECPv6.15.18//NONSGML v1.0//EN
CALSCALE:GREGORIAN
METHOD:PUBLISH
X-ORIGINAL-URL:https://hartleyshawgs.com
X-WR-CALDESC:Events for Hartley&#039;s Hawgs
REFRESH-INTERVAL;VALUE=DURATION:PT1H
X-Robots-Tag:noindex
X-PUBLISHED-TTL:PT1H
BEGIN:VTIMEZONE
TZID:America/New_York
BEGIN:DAYLIGHT
TZOFFSETFROM:-0500
TZOFFSETTO:-0400
TZNAME:EDT
DTSTART:20250309T070000
END:DAYLIGHT
BEGIN:STANDARD
TZOFFSETFROM:-0400
TZOFFSETTO:-0500
TZNAME:EST
DTSTART:20251102T060000
END:STANDARD
BEGIN:DAYLIGHT
TZOFFSETFROM:-0500
TZOFFSETTO:-0400
TZNAME:EDT
DTSTART:20260308T070000
END:DAYLIGHT
BEGIN:STANDARD
TZOFFSETFROM:-0400
TZOFFSETTO:-0500
TZNAME:EST
DTSTART:20261101T060000
END:STANDARD
BEGIN:DAYLIGHT
TZOFFSETFROM:-0500
TZOFFSETTO:-0400
TZNAME:EDT
DTSTART:20270314T070000
END:DAYLIGHT
BEGIN:STANDARD
TZOFFSETFROM:-0400
TZOFFSETTO:-0500
TZNAME:EST
DTSTART:20271107T060000
END:STANDARD
END:VTIMEZONE
BEGIN:VEVENT
DTSTART;TZID=America/New_York:20260426T130000
DTEND;TZID=America/New_York:20260426T160000
DTSTAMP:20260423T125132
CREATED:20260414T135806Z
LAST-MODIFIED:20260414T135807Z
UID:18326-1777208400-1777219200@hartleyshawgs.com
SUMMARY:April Club Meeting
DESCRIPTION:Please bring all raffle tickets and money to this meeting if you haven’t already returned them to Scott Kulpa. \n\n\n\nWe will host a pond tournament for the kids\, so please bring your fishing gear to this meeting.  Prizes will be awarded to the kid who sold the most tickets as well as the winner of the pond tournament.  Bump boards will be handed out at this meeting as well.
URL:https://hartleyshawgs.com/event/april-club-meeting/
LOCATION:Johnstown Sportsman Club\, 7357 Sportsman Club Rd NW\, Johnstown\, Ohio\, 43031\, United States
END:VEVENT
BEGIN:VEVENT
DTSTART;TZID=America/New_York:20260503T060000
DTEND;TZID=America/New_York:20260503T160000
DTSTAMP:20260423T125132
CREATED:20250812T003436Z
LAST-MODIFIED:20250812T003437Z
UID:16604-1777788000-1777824000@hartleyshawgs.com
SUMMARY:Ohio Bass Nation Team Trail Event #4 – Grand Lake St. Mary's
DESCRIPTION:OBN Team Trail Event #4 – Grand Lake St. Mary’s.  This is not a Club Supported event. Club members will have appropriate membership through club but will need to arrange for boat captain\, tournament registration\, tournament registration fees\, travel costs\, and any lodging required on their own.  For more information goto OBN Youth Facebook Page or Ohio Bass Nation Website.
URL:https://hartleyshawgs.com/event/ohio-bass-nation-team-trail-event-4-grand-lake-st-marys/
LOCATION:Grand Lake St Mary
CATEGORIES:Tournaments
END:VEVENT
BEGIN:VEVENT
DTSTART;TZID=America/New_York:20260509T050000
DTEND;TZID=America/New_York:20260509T150000
DTSTAMP:20260423T125132
CREATED:20251007T233927Z
LAST-MODIFIED:20251007T234642Z
UID:17057-1778302800-1778338800@hartleyshawgs.com
SUMMARY:2026 OBF Junior State Championship - Mosquito Creek Lake
DESCRIPTION:This is a club supported event.  2026 OBF Junior Championship on Mosquito Creek Lake.  This is a qualifying tournament for the TBF Junior National Championship.
URL:https://hartleyshawgs.com/event/2026-obf-junior-state-championship/
LOCATION:Mosquito Creek Lake\, OH\, United States
END:VEVENT
BEGIN:VEVENT
DTSTART;TZID=America/New_York:20260530T060000
DTEND;TZID=America/New_York:20260531T160000
DTSTAMP:20260423T125132
CREATED:20250812T004027Z
LAST-MODIFIED:20250812T004029Z
UID:16606-1780120800-1780243200@hartleyshawgs.com
SUMMARY:Ohio Bass Nation State Championship - Salt Fork
DESCRIPTION:State Championship for both High School and Junior Anglers located on Salt Fork Lake.  This is a club assisted event.  The club will work towards organizing boat captains and other logistics for this tournament.  However\, Boat Captains are NOT Guaranteed for all club anglers.
URL:https://hartleyshawgs.com/event/ohio-bass-nation-state-championship-salt-fork/
LOCATION:Salt Fork Lake
CATEGORIES:Tournaments
END:VEVENT
BEGIN:VEVENT
DTSTART;TZID=America/New_York:20260606T050000
DTEND;TZID=America/New_York:20260606T150000
DTSTAMP:20260423T125132
CREATED:20251007T234211Z
LAST-MODIFIED:20260112T011053Z
UID:17059-1780722000-1780758000@hartleyshawgs.com
SUMMARY:2026 SAF State Championship - Alum Creek
DESCRIPTION:This is a club supported event.  2026 SAF State Championship at Alum Creek Lake.  This is a qualifier for the SAF/MLF National Championship.
URL:https://hartleyshawgs.com/event/2026-saf-state-championship/
LOCATION:Alum Creek Lake\, OH\, United States
END:VEVENT
BEGIN:VEVENT
DTSTART;TZID=America/New_York:20260802T050000
DTEND;TZID=America/New_York:20260802T160000
DTSTAMP:20260423T125132
CREATED:20251007T234438Z
LAST-MODIFIED:20251007T234542Z
UID:17061-1785646800-1785686400@hartleyshawgs.com
SUMMARY:2026 OBF High School State Championship - Alum Creek
DESCRIPTION:This is a club supported event.  2026 OBF High School Championship on Alum Creek Lake.
URL:https://hartleyshawgs.com/event/2026-obf-high-school-state-championship/
LOCATION:Alum Creek Lake\, OH\, United States
END:VEVENT
END:VCALENDAR