BEGIN:VCALENDAR
VERSION:2.0
PRODID:-//Hartley&#039;s Hawgs - ECPv6.15.18//NONSGML v1.0//EN
CALSCALE:GREGORIAN
METHOD:PUBLISH
X-WR-CALNAME:Hartley&#039;s Hawgs
X-ORIGINAL-URL:https://hartleyshawgs.com
X-WR-CALDESC:Events for Hartley&#039;s Hawgs
REFRESH-INTERVAL;VALUE=DURATION:PT1H
X-Robots-Tag:noindex
X-PUBLISHED-TTL:PT1H
BEGIN:VTIMEZONE
TZID:America/New_York
BEGIN:DAYLIGHT
TZOFFSETFROM:-0500
TZOFFSETTO:-0400
TZNAME:EDT
DTSTART:20190310T070000
END:DAYLIGHT
BEGIN:STANDARD
TZOFFSETFROM:-0400
TZOFFSETTO:-0500
TZNAME:EST
DTSTART:20191103T060000
END:STANDARD
BEGIN:DAYLIGHT
TZOFFSETFROM:-0500
TZOFFSETTO:-0400
TZNAME:EDT
DTSTART:20200308T070000
END:DAYLIGHT
BEGIN:STANDARD
TZOFFSETFROM:-0400
TZOFFSETTO:-0500
TZNAME:EST
DTSTART:20201101T060000
END:STANDARD
BEGIN:DAYLIGHT
TZOFFSETFROM:-0500
TZOFFSETTO:-0400
TZNAME:EDT
DTSTART:20210314T070000
END:DAYLIGHT
BEGIN:STANDARD
TZOFFSETFROM:-0400
TZOFFSETTO:-0500
TZNAME:EST
DTSTART:20211107T060000
END:STANDARD
BEGIN:DAYLIGHT
TZOFFSETFROM:-0500
TZOFFSETTO:-0400
TZNAME:EDT
DTSTART:20220313T070000
END:DAYLIGHT
BEGIN:STANDARD
TZOFFSETFROM:-0400
TZOFFSETTO:-0500
TZNAME:EST
DTSTART:20221106T060000
END:STANDARD
END:VTIMEZONE
BEGIN:VEVENT
DTSTART;TZID=America/New_York:20210214T130000
DTEND;TZID=America/New_York:20210214T140000
DTSTAMP:20260424T110043
CREATED:20210128T023333Z
LAST-MODIFIED:20210128T024225Z
UID:3139-1613307600-1613311200@hartleyshawgs.com
SUMMARY:Club Meeting - Virtual\, Guest Speaker Charlie Hartley
DESCRIPTION:Club meeting via Google Meet.  Meeting invites will be sent out via email just ahead of the meeting.  Charlie Hartley will speak to the Club.
URL:https://hartleyshawgs.com/event/club-meeting-virtual-w-charlie-hartley-as-guest-speaker/
LOCATION:Ohio
END:VEVENT
BEGIN:VEVENT
DTSTART;TZID=America/New_York:20210206T100000
DTEND;TZID=America/New_York:20210206T110000
DTSTAMP:20260424T110043
CREATED:20210204T014839Z
LAST-MODIFIED:20210204T014840Z
UID:3177-1612605600-1612609200@hartleyshawgs.com
SUMMARY:Club Meeting - Virtual\, Guest Speaker\, Scott Cooke
DESCRIPTION:Virtual Club Meeting thru Google Meet.  Email with invite information will be sent out later this week.
URL:https://hartleyshawgs.com/event/club-meeting-virtual-guest-speaker-scott-cooke/
LOCATION:Ohio
END:VEVENT
BEGIN:VEVENT
DTSTART;TZID=America/New_York:20210131T130000
DTEND;TZID=America/New_York:20210131T140000
DTSTAMP:20260424T110043
CREATED:20210128T023028Z
LAST-MODIFIED:20210128T024752Z
UID:3135-1612098000-1612101600@hartleyshawgs.com
SUMMARY:Club Meeting - Virtual\, Guest Speaker Jeremy Reese
DESCRIPTION:Club Meeting to be held using Google Meet.  Meeting details will be emailed out to club members the morning of the meeting.  Speaker is Jeremy Reese to talk strategies for the lakes on the schedule for upcoming season.
URL:https://hartleyshawgs.com/event/club-meeting-virtual-2/
LOCATION:Ohio
END:VEVENT
BEGIN:VEVENT
DTSTART;TZID=America/New_York:20210124T130000
DTEND;TZID=America/New_York:20210124T140000
DTSTAMP:20260424T110043
CREATED:20210123T203608Z
LAST-MODIFIED:20210123T203609Z
UID:3083-1611493200-1611496800@hartleyshawgs.com
SUMMARY:Club Meeting - Virtual
DESCRIPTION:1st Meeting of 2021.  Information to join meeting will be sent out via email by club advisor\, Karl Guegold.
URL:https://hartleyshawgs.com/event/club-meeting-virtual/
LOCATION:Ohio
END:VEVENT
BEGIN:VEVENT
DTSTART;TZID=America/New_York:20201007T160000
DTEND;TZID=America/New_York:20201018T210000
DTSTAMP:20260424T110043
CREATED:20201009T013020Z
LAST-MODIFIED:20201009T013022Z
UID:2320-1602086400-1603054800@hartleyshawgs.com
SUMMARY:Virtual Tourney
DESCRIPTION:See the Virtual Tourney page for rules and additional info
URL:https://hartleyshawgs.com/event/virtual-tourney/
LOCATION:Ohio
CATEGORIES:Tournaments
END:VEVENT
BEGIN:VEVENT
DTSTART;TZID=America/New_York:20201004T060000
DTEND;TZID=America/New_York:20201004T170000
DTSTAMP:20260424T110043
CREATED:20200121T010628Z
LAST-MODIFIED:20200518T212647Z
UID:602-1601791200-1601830800@hartleyshawgs.com
SUMMARY:Lake Cumberland Open
DESCRIPTION:BASS High School Open Tournament on October 4 at Lake Cumberland rescheduled from Spring due to COVID-19.  Club members would need to coordinate logistics for this tournament on their own.  For more info visit BASS HS
URL:https://hartleyshawgs.com/event/lake-cumberland-open/
LOCATION:Lake Cumberland\, Jamestown\, Kentucky
CATEGORIES:Tournaments
END:VEVENT
BEGIN:VEVENT
DTSTART;TZID=America/New_York:20200912T060000
DTEND;TZID=America/New_York:20200912T170000
DTSTAMP:20260424T110043
CREATED:20200121T010951Z
LAST-MODIFIED:20200816T202652Z
UID:604-1599890400-1599930000@hartleyshawgs.com
SUMMARY:Fishers of Men High School Qualifier
DESCRIPTION:Another tournament opportunity for High School Anglers.  Club members would need to coordinate logistics for this tournament on their own.  Ramp and Tourney Times TBD.  For more info click here.
URL:https://hartleyshawgs.com/event/fishers-of-men-high-school-qualifier/
LOCATION:Caesar Creek Wellman Meadows Boat Ramp\, Waynesville\, Ohio\, 45068
CATEGORIES:Tournaments
END:VEVENT
BEGIN:VEVENT
DTSTART;TZID=America/New_York:20200815T050000
DTEND;TZID=America/New_York:20200815T170000
DTSTAMP:20260424T110043
CREATED:20200521T025008Z
LAST-MODIFIED:20200601T214939Z
UID:1447-1597467600-1597510800@hartleyshawgs.com
SUMMARY:OBN High School Team Trail
DESCRIPTION:Ohio Bass Nation Team Trail Event at Toledo (Lake Erie – Largemouth Only). Club members would need to coordinate logistics for this tournament on their own. For more information visit Ohio Bass Nation High School
URL:https://hartleyshawgs.com/event/obn-high-school-team-trail-3/
LOCATION:Lake Erie – Toledo\, Toledo\, Ohio
CATEGORIES:Tournaments
END:VEVENT
BEGIN:VEVENT
DTSTART;TZID=America/New_York:20200808T050000
DTEND;TZID=America/New_York:20200808T170000
DTSTAMP:20260424T110043
CREATED:20200518T212511Z
LAST-MODIFIED:20200601T215310Z
UID:1414-1596862800-1596906000@hartleyshawgs.com
SUMMARY:Lake St. Clair Open
DESCRIPTION:BASS High School Open Tournament on August 8 on Lake St. Clair.  Club members would need to coordinate logistics for this tournament on their own. For more info visit BASS HS
URL:https://hartleyshawgs.com/event/lake-st-clair/
LOCATION:Lake St Clair\, Detroit\, Michigan
CATEGORIES:Tournaments
END:VEVENT
BEGIN:VEVENT
DTSTART;TZID=America/New_York:20200801T060000
DTEND;TZID=America/New_York:20200801T170000
DTSTAMP:20260424T110043
CREATED:20200121T011532Z
LAST-MODIFIED:20200518T213557Z
UID:606-1596261600-1596301200@hartleyshawgs.com
SUMMARY:FLW High School Open
DESCRIPTION:FLW High School Open Tournament on Lake Erie.  Club members would need to coordinate logistics for this tournament on their own.  For more information visit FLW High School
URL:https://hartleyshawgs.com/event/flw-high-school-open/
LOCATION:Lake Erie – Shelby St Ramp\, 101 Shelby Street\, Sandusky\, Ohio\, 44870\, United States
CATEGORIES:Tournaments
END:VEVENT
BEGIN:VEVENT
DTSTART;TZID=America/New_York:20200725T060000
DTEND;TZID=America/New_York:20200725T170000
DTSTAMP:20260424T110043
CREATED:20200121T005244Z
LAST-MODIFIED:20200630T210516Z
UID:595-1595656800-1595696400@hartleyshawgs.com
SUMMARY:OBF Youth Fun Tourney
DESCRIPTION:OBF youth tournament to be held instead of State Championships.  Tourney Times and ramp details to be determined.
URL:https://hartleyshawgs.com/event/obf-hs-state-championship/
LOCATION:Alum Creek Lake – Galena Ramp\, 4550 Africa Road\, Galena\, Ohio\, 43021\, United States
CATEGORIES:Tournaments
END:VEVENT
BEGIN:VEVENT
DTSTART;TZID=America/New_York:20200711T050000
DTEND;TZID=America/New_York:20200711T170000
DTSTAMP:20260424T110043
CREATED:20200521T024608Z
LAST-MODIFIED:20200601T214830Z
UID:1443-1594443600-1594486800@hartleyshawgs.com
SUMMARY:OBN High School Team Trail
DESCRIPTION:Ohio Bass Nation Team Trail Event at East Harbor (Lake Erie – Open Water). Club members would need to coordinate logistics for this tournament on their own. For more information visit Ohio Bass Nation High School
URL:https://hartleyshawgs.com/event/obn-high-school-team-trail-2/
LOCATION:Lake Erie – East Harbor
CATEGORIES:Tournaments
END:VEVENT
BEGIN:VEVENT
DTSTART;TZID=America/New_York:20200627T060000
DTEND;TZID=America/New_York:20200628T170000
DTSTAMP:20260424T110043
CREATED:20200121T004920Z
LAST-MODIFIED:20200217T160127Z
UID:591-1593237600-1593363600@hartleyshawgs.com
SUMMARY:BASS HS/Jr State Championship
DESCRIPTION:BASS Ohio Championship Tournament.  Winners in each division qualify for National Championship.  Ramp Location\, Tourney Times\, etc. To be determined.
URL:https://hartleyshawgs.com/event/bass-hs-jr-state-championship/
LOCATION:Mosquito Creek Lake – Marina\, 1439 Wilson Sharpsville Rd\, Cortland\, Ohio\, 44410\, United States
CATEGORIES:Tournaments
END:VEVENT
BEGIN:VEVENT
DTSTART;TZID=America/New_York:20200613T060000
DTEND;TZID=America/New_York:20200613T160000
DTSTAMP:20260424T110043
CREATED:20200121T004521Z
LAST-MODIFIED:20200501T200017Z
UID:587-1592028000-1592064000@hartleyshawgs.com
SUMMARY:SAF State Championship
DESCRIPTION:High School SAF Ohio State Championship Tournament.  Winner qualifies for SAF High School National Championship.  New Galena Ramp.  For more info click here
URL:https://hartleyshawgs.com/event/saf-state-championship/
LOCATION:Alum Creek Lake – Galena Ramp\, 4550 Africa Road\, Galena\, Ohio\, 43021\, United States
CATEGORIES:Tournaments
END:VEVENT
BEGIN:VEVENT
DTSTART;TZID=America/New_York:20200606T050000
DTEND;TZID=America/New_York:20200606T170000
DTSTAMP:20260424T110043
CREATED:20200521T024143Z
LAST-MODIFIED:20200601T214749Z
UID:1441-1591419600-1591462800@hartleyshawgs.com
SUMMARY:OBN High School Team Trail
DESCRIPTION:Ohio Bass Nation Team Trail Event at Alum Creek.  Club members would need to coordinate logistics for this tournament on their own. For more information visit Ohio Bass Nation High School
URL:https://hartleyshawgs.com/event/obn-high-school-team-trail/
LOCATION:Alum Creek Lake\, OH\, United States
CATEGORIES:Tournaments
END:VEVENT
BEGIN:VEVENT
DTSTART;TZID=America/New_York:20200502T020000
DTEND;TZID=America/New_York:20200510T140000
DTSTAMP:20260424T110043
CREATED:20200502T012211Z
LAST-MODIFIED:20200502T012216Z
UID:1211-1588384800-1589119200@hartleyshawgs.com
SUMMARY:Virtual Fishing Tournament
DESCRIPTION:Hartley’s Hawgs 1st ever Virtual Fishing Tournament to be held May 2 – May 10\, 2020.  For official rules and to check current entries goto our Virtual Tournaments page
URL:https://hartleyshawgs.com/event/virtual-fishing-tournament/
LOCATION:Ohio
CATEGORIES:Tournaments
END:VEVENT
BEGIN:VEVENT
DTSTART;TZID=America/New_York:20200329T160000
DTEND;TZID=America/New_York:20200329T173000
DTSTAMP:20260424T110043
CREATED:20200118T214309Z
LAST-MODIFIED:20200326T144931Z
UID:556-1585497600-1585503000@hartleyshawgs.com
SUMMARY:Club Meeting - Conf Call
DESCRIPTION:Club Meeting via Conf Call from 4:00p – 5:30p.  Speakers: Rob Thivner & Cody Gray. \n\n\n\nJoin FreeConference.com Meeting: https://hello.freeconference.com/conf/call/3747121 \n\n\n\nOne tap mobile:\n+1 712-832-8330\,\,3747121# \n\n\n\nDial-in using your phone:\nUnited States: +1 712-832-8330 \nUnited States: +1 717-275-8940  \n\n\n\nAccess code: 374 7121
URL:https://hartleyshawgs.com/event/club-meeting-5/
LOCATION:Ohio
CATEGORIES:Events
END:VEVENT
BEGIN:VEVENT
DTSTART;TZID=America/New_York:20200308T160000
DTEND;TZID=America/New_York:20200308T173000
DTSTAMP:20260424T110043
CREATED:20200118T213758Z
LAST-MODIFIED:20200118T213759Z
UID:552-1583683200-1583688600@hartleyshawgs.com
SUMMARY:Club Meeting
DESCRIPTION:Club Meeting.  Speaker and Topic TBD.
URL:https://hartleyshawgs.com/event/club-meeting-3/
LOCATION:Cabela’s\, 1650 Gemini Place\, Columbus\, Ohio\, 43240\, United States
CATEGORIES:Events
END:VEVENT
BEGIN:VEVENT
DTSTART;TZID=America/New_York:20200301T160000
DTEND;TZID=America/New_York:20200301T173000
DTSTAMP:20260424T110043
CREATED:20200118T213553Z
LAST-MODIFIED:20200118T213554Z
UID:549-1583078400-1583083800@hartleyshawgs.com
SUMMARY:Club Meeting
DESCRIPTION:Club Meeting.  Speaker Jeremy Reese.  Fishing our local lakes and the tackle needed.
URL:https://hartleyshawgs.com/event/club-meeting-2/
LOCATION:Cabela’s\, 1650 Gemini Place\, Columbus\, Ohio\, 43240\, United States
CATEGORIES:Events
END:VEVENT
BEGIN:VEVENT
DTSTART;TZID=America/New_York:20200229T063000
DTEND;TZID=America/New_York:20200229T150000
DTSTAMP:20260424T110043
CREATED:20200118T205414Z
LAST-MODIFIED:20200130T235150Z
UID:529-1582957800-1582988400@hartleyshawgs.com
SUMMARY:Hoover Fishing Seminar
DESCRIPTION:Must Attend.  All hands on deck.  Helpout with setup and running of the Hoover Fishing Seminar.  There will be a sign up email sent out with all the slots that need to be filled.
URL:https://hartleyshawgs.com/event/hoover-fishing-seminar/
LOCATION:Walnut Springs Middle School\, 888 East Walnut Street\, Westerville\, Ohio\, 43081\, United States
CATEGORIES:Events
END:VEVENT
BEGIN:VEVENT
DTSTART;TZID=America/New_York:20200223T160000
DTEND;TZID=America/New_York:20200223T173000
DTSTAMP:20260424T110043
CREATED:20200118T204607Z
LAST-MODIFIED:20200118T204608Z
UID:527-1582473600-1582479000@hartleyshawgs.com
SUMMARY:Club Meeting
DESCRIPTION:Speaker Rich Carter.  Topic TBD.
URL:https://hartleyshawgs.com/event/club-meeting/
LOCATION:Cabela’s\, 1650 Gemini Place\, Columbus\, Ohio\, 43240\, United States
CATEGORIES:Events
END:VEVENT
BEGIN:VEVENT
DTSTART;TZID=America/New_York:20200216T080000
DTEND;TZID=America/New_York:20200216T160000
DTSTAMP:20260424T110043
CREATED:20200118T204011Z
LAST-MODIFIED:20200211T122904Z
UID:523-1581840000-1581868800@hartleyshawgs.com
SUMMARY:Ohio Bass Nation Annual Meeting
DESCRIPTION:Ohio Bass Nation Annual Meeting.  Any club members are welcome to attend.  Will have discussion on upcoming OBN activities.  For more info click here.
URL:https://hartleyshawgs.com/event/ohio-bass-nation-annual-meeting/
LOCATION:Caesar Creek – Visitors Center\, 4020 N. Clarksville Road\, Waynesville\, Ohio\, 45068\, United States
CATEGORIES:Events
END:VEVENT
BEGIN:VEVENT
DTSTART;TZID=America/New_York:20200207T000000
DTEND;TZID=America/New_York:20200209T235900
DTSTAMP:20260424T110043
CREATED:20200118T203206Z
LAST-MODIFIED:20200118T210057Z
UID:519-1581033600-1581292740@hartleyshawgs.com
SUMMARY:Columbus Fishing Expo
DESCRIPTION:The Columbus Fishing Expo is a great event with many vendors and seminar sessions.  The Hartley’s Hawgs will also be having a booth at the Expo to help us promote the Hoover Fishing Seminar and our club and Walnut Springs Fishing Club.  If you are able to man the booth during the Expo please let an adviser know.
URL:https://hartleyshawgs.com/event/columbus-fishing-expo/
LOCATION:Bricker Bldg\, Ohio Expo Center\, 717 East 17th Ave\, Columbus\, Ohio\, 43211\, United States
CATEGORIES:Events
END:VEVENT
BEGIN:VEVENT
DTSTART;TZID=America/New_York:20200201T140000
DTEND;TZID=America/New_York:20200201T153000
DTSTAMP:20260424T110043
CREATED:20200118T202403Z
LAST-MODIFIED:20200130T235116Z
UID:515-1580565600-1580571000@hartleyshawgs.com
SUMMARY:Hoover Fishing Seminar Planning and Info
DESCRIPTION:Parent’s and Angler’s please plan to attend!  Meet to focus on status of Raffle Collections and discuss needs to get ready for the Hoover Fishing Seminar.  We need all hands to prepare and execute this event.
URL:https://hartleyshawgs.com/event/hoover-fishing-seminar-planning-and-info/
LOCATION:Quest Conf Center\, 8405 Pulsar Place\, Columbus\, Ohio\, 43240\, United States
CATEGORIES:Events
END:VEVENT
BEGIN:VEVENT
DTSTART;TZID=America/New_York:20200201T090000
DTEND;TZID=America/New_York:20200201T130000
DTSTAMP:20260424T110043
CREATED:20200118T201558Z
LAST-MODIFIED:20200126T190354Z
UID:511-1580547600-1580562000@hartleyshawgs.com
SUMMARY:Ohio Bass Federation Annual Meeting
DESCRIPTION:OBF Annual Meeting.   This event includes some seminar sessions and discussion about upcoming OBF business and events.  In the past some vendors have attended.
URL:https://hartleyshawgs.com/event/ohio-bass-federation-annual-meeting/
LOCATION:Quest Conf Center\, 8405 Pulsar Place\, Columbus\, Ohio\, 43240\, United States
CATEGORIES:Events
END:VEVENT
BEGIN:VEVENT
DTSTART;TZID=America/New_York:20200125T083000
DTEND;TZID=America/New_York:20200125T113000
DTSTAMP:20260424T110043
CREATED:20200118T200852Z
LAST-MODIFIED:20200121T003105Z
UID:507-1579941000-1579951800@hartleyshawgs.com
SUMMARY:Lure Making Session
DESCRIPTION:Lure Making.  End Time Tentative.  Columbus Bassmasters are making lures from recycled lures to donate to youth events for OBF on this date. They will walk our anglers through what it takes to make new lures from old torn up fishing lures that you might think of as trash.
URL:https://hartleyshawgs.com/event/lure-making-session/
LOCATION:Central City Auto Parts\, 1930 McKinley Ave\, Columbus\, Ohio\, 43222\, United States
CATEGORIES:Events
END:VEVENT
END:VCALENDAR