BEGIN:VCALENDAR
VERSION:2.0
PRODID:-//Hartley&#039;s Hawgs - ECPv6.15.18//NONSGML v1.0//EN
CALSCALE:GREGORIAN
METHOD:PUBLISH
X-ORIGINAL-URL:https://hartleyshawgs.com
X-WR-CALDESC:Events for Hartley&#039;s Hawgs
REFRESH-INTERVAL;VALUE=DURATION:PT1H
X-Robots-Tag:noindex
X-PUBLISHED-TTL:PT1H
BEGIN:VTIMEZONE
TZID:America/New_York
BEGIN:DAYLIGHT
TZOFFSETFROM:-0500
TZOFFSETTO:-0400
TZNAME:EDT
DTSTART:20220313T070000
END:DAYLIGHT
BEGIN:STANDARD
TZOFFSETFROM:-0400
TZOFFSETTO:-0500
TZNAME:EST
DTSTART:20221106T060000
END:STANDARD
BEGIN:DAYLIGHT
TZOFFSETFROM:-0500
TZOFFSETTO:-0400
TZNAME:EDT
DTSTART:20230312T070000
END:DAYLIGHT
BEGIN:STANDARD
TZOFFSETFROM:-0400
TZOFFSETTO:-0500
TZNAME:EST
DTSTART:20231105T060000
END:STANDARD
BEGIN:DAYLIGHT
TZOFFSETFROM:-0500
TZOFFSETTO:-0400
TZNAME:EDT
DTSTART:20240310T070000
END:DAYLIGHT
BEGIN:STANDARD
TZOFFSETFROM:-0400
TZOFFSETTO:-0500
TZNAME:EST
DTSTART:20241103T060000
END:STANDARD
BEGIN:DAYLIGHT
TZOFFSETFROM:-0500
TZOFFSETTO:-0400
TZNAME:EDT
DTSTART:20250309T070000
END:DAYLIGHT
BEGIN:STANDARD
TZOFFSETFROM:-0400
TZOFFSETTO:-0500
TZNAME:EST
DTSTART:20251102T060000
END:STANDARD
END:VTIMEZONE
BEGIN:VEVENT
DTSTART;TZID=America/New_York:20241110T130000
DTEND;TZID=America/New_York:20241110T150000
DTSTAMP:20260423T225507
CREATED:20241025T230831Z
LAST-MODIFIED:20241109T211625Z
UID:13283-1731243600-1731250800@hartleyshawgs.com
SUMMARY:Cancelled - Pond Tourney - Fall 2024 #2
DESCRIPTION:Due to poor forecasted weather pond tourney has been cancelled.
URL:https://hartleyshawgs.com/event/pond-tourney-fall-2024-2/
CATEGORIES:Events
END:VEVENT
BEGIN:VEVENT
DTSTART;TZID=America/New_York:20241103T140000
DTEND;TZID=America/New_York:20241103T160000
DTSTAMP:20260423T225507
CREATED:20241025T230448Z
LAST-MODIFIED:20241025T230450Z
UID:13281-1730642400-1730649600@hartleyshawgs.com
SUMMARY:Pond Tournament
DESCRIPTION:A pond tournament has been setup for all current and perspective members at the Hurtts Family property.  Email information has been sent out with the address for the event.  If you did not receive the email with info and would like to attend please contact us
URL:https://hartleyshawgs.com/event/pond-tournament-2/
CATEGORIES:Events
END:VEVENT
BEGIN:VEVENT
DTSTART;TZID=America/New_York:20241027T090000
DTEND;TZID=America/New_York:20241027T150000
DTSTAMP:20260423T225507
CREATED:20241018T013110Z
LAST-MODIFIED:20241018T013425Z
UID:13227-1730019600-1730041200@hartleyshawgs.com
SUMMARY:His and Hers Tournament supporting Ohio Bass Nation Youth Fishing
DESCRIPTION:This tournament is an open tournament for any male/female team with all the proceeds going to support Ohio Bass Nation Youth Fishing.  Tournament will be held at Alum Creek Lake launching from the New Galena Ramp.  Cookout afterwards.  Come out and support a great cause.
URL:https://hartleyshawgs.com/event/his-and-hers-tournament-supporting-ohio-bass-nation-youth-fishing/
LOCATION:Alum Creek Lake – Galena Ramp\, 4550 Africa Road\, Galena\, Ohio\, 43021\, United States
CATEGORIES:Events
END:VEVENT
BEGIN:VEVENT
DTSTART;TZID=America/New_York:20241013T060000
DTEND;TZID=America/New_York:20241013T160000
DTSTAMP:20260423T225507
CREATED:20240913T011548Z
LAST-MODIFIED:20240913T011640Z
UID:12983-1728799200-1728835200@hartleyshawgs.com
SUMMARY:2024-2025 OBN Team Trail #2
DESCRIPTION:Stop 2 of OBN Team Trail at Alum Creek Lake
URL:https://hartleyshawgs.com/event/2024-2025-obn-team-trail-2/
LOCATION:Alum Creek Lake\, OH\, United States
CATEGORIES:Events
END:VEVENT
BEGIN:VEVENT
DTSTART;TZID=America/New_York:20240908T060000
DTEND;TZID=America/New_York:20240908T150000
DTSTAMP:20260423T225507
CREATED:20240913T011115Z
LAST-MODIFIED:20240913T011116Z
UID:12981-1725775200-1725807600@hartleyshawgs.com
SUMMARY:2024-2025 OBN Team Trail #1
DESCRIPTION:Ohio Bass Nation Team Trail Stop #1 at Indian Lake
URL:https://hartleyshawgs.com/event/2024-2025-obn-team-trail-1/
LOCATION:Indian Lake
CATEGORIES:Events
END:VEVENT
BEGIN:VEVENT
DTSTART;TZID=America/New_York:20240825T110000
DTEND;TZID=America/New_York:20240825T130000
DTSTAMP:20260423T225507
CREATED:20240808T031145Z
LAST-MODIFIED:20240823T204754Z
UID:12761-1724583600-1724590800@hartleyshawgs.com
SUMMARY:Club Meeting - Alum Creek Galena Ramp
DESCRIPTION:The next Hartley’s Hawgs club meeting will be August 25th from 11-1pm at the New Galena Boat Ramp on Alum Creek.  We will meet at the pavilion near the ramp. \n\n\n\nMembers of the Columbus Bassmaster club will be at the meeting to teach the youth anglers about preparing gear and tackle for tournaments\, various techniques and other important information for how to get ready to fish.  We will also be having a representative from Ohio Bass Nation at the meeting to discuss the upcoming Youth Team Trail. 
URL:https://hartleyshawgs.com/event/club-meeting-alum-creek-galena-ramp/
LOCATION:Alum Creek Lake – Galena Ramp\, 4550 Africa Road\, Galena\, Ohio\, 43021\, United States
CATEGORIES:Events
END:VEVENT
BEGIN:VEVENT
DTSTART;TZID=America/New_York:20240811T050000
DTEND;TZID=America/New_York:20240811T170000
DTSTAMP:20260423T225507
CREATED:20240106T043644Z
LAST-MODIFIED:20240106T043646Z
UID:10666-1723352400-1723395600@hartleyshawgs.com
SUMMARY:2024 Ohio Bass Federation HS State Championship
DESCRIPTION:2024 OBF HS State Championship.  Fish for assistance in future entries into OBF tourneys and/or prizes.
URL:https://hartleyshawgs.com/event/2024-ohio-bass-federation-hs-state-championship/
LOCATION:Lake Erie – Shelby St Ramp\, 101 Shelby Street\, Sandusky\, Ohio\, 44870\, United States
CATEGORIES:Tournaments
END:VEVENT
BEGIN:VEVENT
DTSTART;TZID=America/New_York:20240622T120000
DTEND;TZID=America/New_York:20240622T150000
DTSTAMP:20260423T225507
CREATED:20240216T022514Z
LAST-MODIFIED:20240609T125808Z
UID:11113-1719057600-1719068400@hartleyshawgs.com
SUMMARY:Zakfest 2024
DESCRIPTION:Mark your calendar for the 2024 Zakfest Fundraiser Event being held on June 22\, 2024 at Hoff Woods Park. Zakfest honors a past member who lost his life in a car accident. For more information about the Foundation and Zakfest go here or contact Jackie Rose at 614-738-6413 or jackierose999@yahoo.com
URL:https://hartleyshawgs.com/event/zakfest-2024/
LOCATION:Hoff Woods Park\, 565 McCorkle Ave\, Westerville\, Ohio\, 43082\, United States
CATEGORIES:Events
END:VEVENT
BEGIN:VEVENT
DTSTART;TZID=America/New_York:20240608T060000
DTEND;TZID=America/New_York:20240608T150000
DTSTAMP:20260423T225507
CREATED:20231112T223818Z
LAST-MODIFIED:20231112T223820Z
UID:10159-1717826400-1717858800@hartleyshawgs.com
SUMMARY:2024 SAF Ohio State Championship
DESCRIPTION:This is the Student Angler Federation Ohio High School Championship Tourney.  This tourney qualifies you for MLF National Championship.  This years event is on Alum Creek Lake.
URL:https://hartleyshawgs.com/event/2024-saf-ohio-state-championship/
LOCATION:Alum Creek Lake\, OH\, United States
END:VEVENT
BEGIN:VEVENT
DTSTART;TZID=America/New_York:20240601T050000
DTEND;TZID=America/New_York:20240602T170000
DTSTAMP:20260423T225507
CREATED:20240106T042941Z
LAST-MODIFIED:20240106T043427Z
UID:10660-1717218000-1717347600@hartleyshawgs.com
SUMMARY:2024 Ohio Bass Nation HS/Jr State Championship
DESCRIPTION:2024 OBN State Championship for both Jr and HS Anglers.  Top Finishers in tourney qualify for BASS National Championship.
URL:https://hartleyshawgs.com/event/2024-ohio-bass-nation-hs-jr-state-championship/
LOCATION:Rocky Fork Lake
CATEGORIES:Tournaments
END:VEVENT
BEGIN:VEVENT
DTSTART;TZID=America/New_York:20240511T050000
DTEND;TZID=America/New_York:20240511T160000
DTSTAMP:20260423T225507
CREATED:20240106T043249Z
LAST-MODIFIED:20240106T043250Z
UID:10662-1715403600-1715443200@hartleyshawgs.com
SUMMARY:2024 Ohio Bass Federation Jr State Championship
DESCRIPTION:OBF Jr State Championship for a chance to qualify for TBF Junior National Championship.
URL:https://hartleyshawgs.com/event/2024-ohio-bass-federation-jr-state-championship/
LOCATION:Alum Creek Lake – Galena Ramp\, 4550 Africa Road\, Galena\, Ohio\, 43021\, United States
CATEGORIES:Tournaments
END:VEVENT
BEGIN:VEVENT
DTSTART;TZID=America/New_York:20240505T130000
DTEND;TZID=America/New_York:20240505T150000
DTSTAMP:20260423T225507
CREATED:20240424T024242Z
LAST-MODIFIED:20240424T024245Z
UID:11845-1714914000-1714921200@hartleyshawgs.com
SUMMARY:Club Meeting and Pond Fishing
DESCRIPTION:Club meeting to take care of following: \n\n\n\n\nAwards from Virtual Tournament\n\n\n\nPassing out Jerseys and Apparel Items\n\n\n\nProviding Information/ Answer Questions for May 11th Jr. Tourney\n\n\n\nFishing at the Pond!\n\n\n\n\nLocation info was sent out via email.
URL:https://hartleyshawgs.com/event/club-meeting-and-pond-fishing/
LOCATION:Location Info Sent out via email
END:VEVENT
BEGIN:VEVENT
DTSTART;TZID=America/New_York:20240323T100000
DTEND;TZID=America/New_York:20240323T140000
DTSTAMP:20260423T225507
CREATED:20240317T234246Z
LAST-MODIFIED:20240317T234249Z
UID:11378-1711188000-1711202400@hartleyshawgs.com
SUMMARY:Club Meeting - Bait Making
DESCRIPTION:Club Members will be working with Columbus Bassmasters members to make some baits.  Lunch will be provided to all kids/parents that attend.  A separate email has been sent out with a sign-up so that we can organize food/drinks for the event.
URL:https://hartleyshawgs.com/event/club-meeting-bait-making/
LOCATION:Central City Auto Parts\, 1930 McKinley Ave\, Columbus\, Ohio\, 43222\, United States
CATEGORIES:Events
END:VEVENT
BEGIN:VEVENT
DTSTART;TZID=America/New_York:20240317T143000
DTEND;TZID=America/New_York:20240317T170000
DTSTAMP:20260423T225507
CREATED:20240106T042534Z
LAST-MODIFIED:20240106T042536Z
UID:10658-1710685800-1710694800@hartleyshawgs.com
SUMMARY:Club Meeting - Guest Speaker Tyler Berger
DESCRIPTION:Club Meeting with guest speaker Tyler Berger creator of BassFishingHQ Youtube channel.
URL:https://hartleyshawgs.com/event/club-meeting-guest-speaker-tyler-berger/
LOCATION:Central City Auto Parts\, 1930 McKinley Ave\, Columbus\, Ohio\, 43222\, United States
CATEGORIES:Events
END:VEVENT
BEGIN:VEVENT
DTSTART;TZID=America/New_York:20240225T133000
DTEND;TZID=America/New_York:20240225T153000
DTSTAMP:20260423T225507
CREATED:20240106T042107Z
LAST-MODIFIED:20240106T042109Z
UID:10656-1708867800-1708875000@hartleyshawgs.com
SUMMARY:Club Meeting - Scott Cooke guest speaker
DESCRIPTION:Club meeting with guest speaker Scott Cooke
URL:https://hartleyshawgs.com/event/club-meeting-scott-cooke-guest-speaker/
LOCATION:Central City Auto Parts\, 1930 McKinley Ave\, Columbus\, Ohio\, 43222\, United States
CATEGORIES:Events
END:VEVENT
BEGIN:VEVENT
DTSTART;TZID=America/New_York:20240211T130000
DTEND;TZID=America/New_York:20240211T150000
DTSTAMP:20260423T225507
CREATED:20240106T041854Z
LAST-MODIFIED:20240106T041856Z
UID:10654-1707656400-1707663600@hartleyshawgs.com
SUMMARY:Club Meeting - Guest Speaker Campbellsville Univ Bass Fishing Team Coach
DESCRIPTION:Club meeting with College Fishing Coach speaking with the club.
URL:https://hartleyshawgs.com/event/club-meeting-guest-speaker-campbellsville-univ-bass-fishing-team-coach/
LOCATION:Central City Auto Parts\, 1930 McKinley Ave\, Columbus\, Ohio\, 43222\, United States
CATEGORIES:Events
END:VEVENT
BEGIN:VEVENT
DTSTART;TZID=America/New_York:20240204T130000
DTEND;TZID=America/New_York:20240204T150000
DTSTAMP:20260423T225507
CREATED:20240106T041619Z
LAST-MODIFIED:20240106T041621Z
UID:10652-1707051600-1707058800@hartleyshawgs.com
SUMMARY:Club Meeting - Jeremy Reese Speaker
DESCRIPTION:Club meeting with great young angler and former High School Fishing participant\, Jeremy Reese Speaking to the club.
URL:https://hartleyshawgs.com/event/club-meeting-jeremy-reese-speaker/
LOCATION:Central City Auto Parts\, 1930 McKinley Ave\, Columbus\, Ohio\, 43222\, United States
CATEGORIES:Events
END:VEVENT
BEGIN:VEVENT
DTSTART;TZID=America/New_York:20240203T090000
DTEND;TZID=America/New_York:20240203T140000
DTSTAMP:20260423T225507
CREATED:20240130T010235Z
LAST-MODIFIED:20240130T010236Z
UID:10919-1706950800-1706968800@hartleyshawgs.com
SUMMARY:Ohio Bass Federation - Annual Meeting (with Youth Session)
DESCRIPTION:OBF Annual Meeting.  They will have a youth session with speaker(s) that starts shortly after the meeting starts.  Event also offers Raffle Drawing with many prizes and Vendors.  This is not a club required event but several club members and advisors typically attend.
URL:https://hartleyshawgs.com/event/ohio-bass-federation-annual-meeting-with-youth-session/
LOCATION:Quest Conference Center\, 9200 Worthington Road\, Suite 400\, Westerville\, Ohio\, 43082
END:VEVENT
BEGIN:VEVENT
DTSTART;TZID=America/New_York:20240127T070000
DTEND;TZID=America/New_York:20240127T170000
DTSTAMP:20260423T225507
CREATED:20240106T041255Z
LAST-MODIFIED:20240106T041257Z
UID:10650-1706338800-1706374800@hartleyshawgs.com
SUMMARY:Hoover Fishing Seminar
DESCRIPTION:Our annual fund raising activity is being help.  For more info checkout the Hoover Fishing Seminar Page.  We will need assistance from all club members to support this event.
URL:https://hartleyshawgs.com/event/hoover-fishing-seminar-3/
LOCATION:Walnut Springs Middle School\, 888 East Walnut Street\, Westerville\, Ohio\, 43081\, United States
END:VEVENT
BEGIN:VEVENT
DTSTART;TZID=America/New_York:20240121T130000
DTEND;TZID=America/New_York:20240121T150000
DTSTAMP:20260423T225507
CREATED:20240106T040900Z
LAST-MODIFIED:20240106T040902Z
UID:10648-1705842000-1705849200@hartleyshawgs.com
SUMMARY:Club Meeting - Rich Carter Speaking
DESCRIPTION:Club meeting to discuss upcoming Hoover Fishing Seminar Prep and also have guest speaker Rich Carter talk with the club.  Moe details will be mailed out to members closer to meeting date.
URL:https://hartleyshawgs.com/event/club-meeting-rich-carter-speaking/
LOCATION:Central City Auto Parts\, 1930 McKinley Ave\, Columbus\, Ohio\, 43222\, United States
CATEGORIES:Events
END:VEVENT
BEGIN:VEVENT
DTSTART;TZID=America/New_York:20231203T120000
DTEND;TZID=America/New_York:20231203T150000
DTSTAMP:20260423T225507
CREATED:20231003T234808Z
LAST-MODIFIED:20231121T232940Z
UID:9858-1701604800-1701615600@hartleyshawgs.com
SUMMARY:Membership Meeting & Hoover Fishing Seminar
DESCRIPTION:Mark your calendars for December 3rd for our Membership Meeting at Central City Auto Parts in Columbus.  Please try and attend if possible or let us know if you can’t make it and are planning on joining the club for the 2024 season.  We will go over Membership Signups and talk about our Fundraiser\, The Hoover Fishing Seminar\, scheduled for January 27\, 2024.  We are also working on bringing in other speakers to possibly talk about College Fishing or other Fishing related topics.
URL:https://hartleyshawgs.com/event/membership-meeting-time-location-tbd/
LOCATION:Central City Auto Parts\, 1930 McKinley Ave\, Columbus\, Ohio\, 43222\, United States
CATEGORIES:Events
END:VEVENT
BEGIN:VEVENT
DTSTART;TZID=America/New_York:20231104T090000
DTEND;TZID=America/New_York:20231104T110000
DTSTAMP:20260423T225507
CREATED:20231003T234533Z
LAST-MODIFIED:20231103T000806Z
UID:9855-1699088400-1699095600@hartleyshawgs.com
SUMMARY:Pond Tournament - Hoff Woods Park\, Existing and perspective new members
DESCRIPTION:Pond fishing tournament at Hoff Park in Westerville.  Try to arrive early to check in and to go thru any questions
URL:https://hartleyshawgs.com/event/pond-tournament-hoff-woods-park-existing-and-perspective-new-members-time-to-be-finalized/
LOCATION:Hoff Woods Park\, 565 McCorkle Ave\, Westerville\, Ohio\, 43082\, United States
END:VEVENT
BEGIN:VEVENT
DTSTART;TZID=America/New_York:20231022T083000
DTEND;TZID=America/New_York:20231022T123000
DTSTAMP:20260423T225507
CREATED:20231003T233709Z
LAST-MODIFIED:20231022T022319Z
UID:9852-1697963400-1697977800@hartleyshawgs.com
SUMMARY:Pond Tournament - Existing and Perspective New Members\, Kurtz Bros
DESCRIPTION:Another bank tournament opportunity.  This is for Existing and perspective new members.  Enjoy some fall fishing!  https://maps.app.goo.gl/E9BE27miRJKoZEWH6
URL:https://hartleyshawgs.com/event/pond-tournament-tentative-existing-and-perspective-new-members-kurtz-bros/
LOCATION:Kurtz Bros\, 2409 Johnstown-Alexandria Rd\, Alexandria\, Ohio\, 43001\, United States
END:VEVENT
BEGIN:VEVENT
DTSTART;TZID=America/New_York:20231015T090000
DTEND;TZID=America/New_York:20231015T133000
DTSTAMP:20260423T225507
CREATED:20231003T232915Z
LAST-MODIFIED:20231003T232916Z
UID:9849-1697360400-1697376600@hartleyshawgs.com
SUMMARY:Pond Tournament\, Point North Nature Park\, Urbana (Existing and perspective members)
DESCRIPTION:Pond Tournament for existing and perspective new members at Point North Nature Park in Urbana\, Ohio.  https://www.urbanaohio.com/parks–recreation.html \n\n\n\nGet some fall pond fishing in with other club members and enjoy some outdoors time!
URL:https://hartleyshawgs.com/event/pond-tournament-point-north-nature-park-urbana-existing-and-perspective-members/
LOCATION:Point North Nature Park\, 2222 US Route 68 N
END:VEVENT
BEGIN:VEVENT
DTSTART;TZID=America/New_York:20231007T083000
DTEND;TZID=America/New_York:20231007T103000
DTSTAMP:20260423T225507
CREATED:20231003T232159Z
LAST-MODIFIED:20231003T232243Z
UID:9846-1696667400-1696674600@hartleyshawgs.com
SUMMARY:Pond Tournament\, Sunbury Reservoirs - Existing Members
DESCRIPTION:Come out for a fall pond tournament at Sunbury Upland Reservoirs: https://sunburyohio.org/facilities/facility/details/The-Reservoirs-5.  This tournament is intended for existing club members.  We will be having some additional fall tournaments and inviting future perspective members coming soon.
URL:https://hartleyshawgs.com/event/pond-tournament-existing-members/
END:VEVENT
BEGIN:VEVENT
DTSTART;TZID=America/New_York:20230916T060000
DTEND;TZID=America/New_York:20230916T170000
DTSTAMP:20260423T225507
CREATED:20230420T010504Z
LAST-MODIFIED:20230420T010506Z
UID:8689-1694844000-1694883600@hartleyshawgs.com
SUMMARY:2023 FOM High School Series #3
DESCRIPTION:Fishers of Men Ohio High School Series event 3/3 on Sandusky Bay
URL:https://hartleyshawgs.com/event/2023-fom-high-school-series-3/
LOCATION:Sandusky Bay\, Sandusky\, Ohio
END:VEVENT
BEGIN:VEVENT
DTSTART;TZID=America/New_York:20230826T060000
DTEND;TZID=America/New_York:20230826T170000
DTSTAMP:20260423T225507
CREATED:20230420T010233Z
LAST-MODIFIED:20230420T010235Z
UID:8687-1693029600-1693069200@hartleyshawgs.com
SUMMARY:2023 FOM High School Series #2
DESCRIPTION:Fishers of Men Ohio High School Series 2/3 on Alum Creek Lake
URL:https://hartleyshawgs.com/event/2023-fom-high-school-series-2/
LOCATION:Alum Creek Lake\, OH\, United States
END:VEVENT
BEGIN:VEVENT
DTSTART;TZID=America/New_York:20230722T060000
DTEND;TZID=America/New_York:20230722T170000
DTSTAMP:20260423T225507
CREATED:20230420T010056Z
LAST-MODIFIED:20230420T010058Z
UID:8685-1690005600-1690045200@hartleyshawgs.com
SUMMARY:2023 FOM High School Series #1
DESCRIPTION:Fishers of Men High School Series Tournament 1/3.
URL:https://hartleyshawgs.com/event/2023-fom-high-school-series-1/
LOCATION:Caesar Creek Lake\, OH\, United States
END:VEVENT
BEGIN:VEVENT
DTSTART;TZID=America/New_York:20230624T120000
DTEND;TZID=America/New_York:20230624T170000
DTSTAMP:20260423T225507
CREATED:20230404T010038Z
LAST-MODIFIED:20230404T010039Z
UID:8568-1687608000-1687626000@hartleyshawgs.com
SUMMARY:Zak Fest Fundraiser
DESCRIPTION:Come out and support the Zak Davis Memorial Foundation.  Zak was a former Walnut Springs and Hartley’s Hawks member who tragically passed away in a car accident.  His mother and grandmother have organized this Foundation and Zak Fest.  To learn more goto The Zak Davis Memorial Foundation Website.
URL:https://hartleyshawgs.com/event/zak-fest-fundraiser/
LOCATION:To be Determined
END:VEVENT
BEGIN:VEVENT
DTSTART;TZID=America/New_York:20230617T050000
DTEND;TZID=America/New_York:20230617T160000
DTSTAMP:20260423T225507
CREATED:20230315T010845Z
LAST-MODIFIED:20230315T010846Z
UID:8421-1686978000-1687017600@hartleyshawgs.com
SUMMARY:OBF High School State Championship
DESCRIPTION:The 2023 OBF HS Championship will be on East Fork lake on 6/17/2023.
URL:https://hartleyshawgs.com/event/obf-high-school-state-championship/
LOCATION:East Fork Lake
CATEGORIES:Tournaments
END:VEVENT
END:VCALENDAR