BEGIN:VCALENDAR
VERSION:2.0
PRODID:-//Hartley&#039;s Hawgs - ECPv6.15.18//NONSGML v1.0//EN
CALSCALE:GREGORIAN
METHOD:PUBLISH
X-WR-CALNAME:Hartley&#039;s Hawgs
X-ORIGINAL-URL:https://hartleyshawgs.com
X-WR-CALDESC:Events for Hartley&#039;s Hawgs
REFRESH-INTERVAL;VALUE=DURATION:PT1H
X-Robots-Tag:noindex
X-PUBLISHED-TTL:PT1H
BEGIN:VTIMEZONE
TZID:America/New_York
BEGIN:DAYLIGHT
TZOFFSETFROM:-0500
TZOFFSETTO:-0400
TZNAME:EDT
DTSTART:20210314T070000
END:DAYLIGHT
BEGIN:STANDARD
TZOFFSETFROM:-0400
TZOFFSETTO:-0500
TZNAME:EST
DTSTART:20211107T060000
END:STANDARD
BEGIN:DAYLIGHT
TZOFFSETFROM:-0500
TZOFFSETTO:-0400
TZNAME:EDT
DTSTART:20220313T070000
END:DAYLIGHT
BEGIN:STANDARD
TZOFFSETFROM:-0400
TZOFFSETTO:-0500
TZNAME:EST
DTSTART:20221106T060000
END:STANDARD
BEGIN:DAYLIGHT
TZOFFSETFROM:-0500
TZOFFSETTO:-0400
TZNAME:EDT
DTSTART:20230312T070000
END:DAYLIGHT
BEGIN:STANDARD
TZOFFSETFROM:-0400
TZOFFSETTO:-0500
TZNAME:EST
DTSTART:20231105T060000
END:STANDARD
BEGIN:DAYLIGHT
TZOFFSETFROM:-0500
TZOFFSETTO:-0400
TZNAME:EDT
DTSTART:20240310T070000
END:DAYLIGHT
BEGIN:STANDARD
TZOFFSETFROM:-0400
TZOFFSETTO:-0500
TZNAME:EST
DTSTART:20241103T060000
END:STANDARD
END:VTIMEZONE
BEGIN:VEVENT
DTSTART;TZID=America/New_York:20230604T100000
DTEND;TZID=America/New_York:20230604T140000
DTSTAMP:20260424T031205
CREATED:20230601T012339Z
LAST-MODIFIED:20230601T012341Z
UID:9006-1685872800-1685887200@hartleyshawgs.com
SUMMARY:Raffle Draw\, Pond Fishing and Lunch
DESCRIPTION:Club get together to draw our fundraiser Raffle Winners.  Also\, will be doing some pond fishing and have a cookout lunch
URL:https://hartleyshawgs.com/event/raffle-draw-pond-fishing-and-lunch/
LOCATION:Johnstown Sportsman Club\, 7357 Sportsman Club Rd NW\, Johnstown\, Ohio\, 43031\, United States
CATEGORIES:Events
END:VEVENT
BEGIN:VEVENT
DTSTART;TZID=America/New_York:20230603T060000
DTEND;TZID=America/New_York:20230603T170000
DTSTAMP:20260424T031205
CREATED:20221201T221800Z
LAST-MODIFIED:20221201T221801Z
UID:7493-1685772000-1685811600@hartleyshawgs.com
SUMMARY:2023 SAF State HS Championship
DESCRIPTION:The 2023 SAF State Championship will be held on the mighty Ohio River launching from Gallipolis.  For more info checkout our Tournaments page.
URL:https://hartleyshawgs.com/event/2023-saf-state-hs-championship/
LOCATION:Gallipolis\, Ohio\, Gallipolis\, Ohio
CATEGORIES:Tournaments
END:VEVENT
BEGIN:VEVENT
DTSTART;TZID=America/New_York:20230513T070000
DTEND;TZID=America/New_York:20230513T150000
DTSTAMP:20260424T031205
CREATED:20230206T235310Z
LAST-MODIFIED:20230206T235312Z
UID:8140-1683961200-1683990000@hartleyshawgs.com
SUMMARY:Gahanna Bass Anglers - Spring Hoover Open
DESCRIPTION:The Gahanna Bass Anglers 42nd Annual Hoover Reservoir Open Bass Tournament is being held on Saturday May 13\, 2023.  Proceeds from this tournament are shared with the Walnut Springs Middle School Fishing Club and Hartley’s Hawgs.  If your looking for a fun event for a good cause come out and check this event out.  For more information see the Tournament Registration Form Link
URL:https://hartleyshawgs.com/event/gahanna-bass-anglers-spring-hoover-open/
LOCATION:Walnut Street Ramp\, 7940 S Sunbury Rd\,\, Westerville\, Ohio\, 43081\, United States
END:VEVENT
BEGIN:VEVENT
DTSTART;TZID=America/New_York:20230513T050000
DTEND;TZID=America/New_York:20230513T150000
DTSTAMP:20260424T031205
CREATED:20230315T010633Z
LAST-MODIFIED:20230315T010636Z
UID:8419-1683954000-1683990000@hartleyshawgs.com
SUMMARY:OBF Juniors State Championship Tourney
DESCRIPTION:The 2023 OBF Junior State Championship Tourney will be held 5/13/2023 on Alum Creek Lake
URL:https://hartleyshawgs.com/event/obf-juniors-state-championship-tourney/
LOCATION:Alum Creek Lake\, OH\, United States
CATEGORIES:Events
END:VEVENT
BEGIN:VEVENT
DTSTART;TZID=America/New_York:20230429T060000
DTEND;TZID=America/New_York:20230430T170000
DTSTAMP:20260424T031205
CREATED:20230115T164022Z
LAST-MODIFIED:20230115T164024Z
UID:7879-1682748000-1682874000@hartleyshawgs.com
SUMMARY:Ohio Bass Nation State Championship
DESCRIPTION:The Ohio BASS State Championship for both HS and Junior Anglers.  Top finishers qualify for National Championship events.
URL:https://hartleyshawgs.com/event/ohio-bass-nation-state-championship/
LOCATION:Alum Creek Lake – Hollenback Ramp\, 4000 Hollenback Road\, Lewis Center\, Ohio\, 43035
END:VEVENT
BEGIN:VEVENT
DTSTART;TZID=America/New_York:20230423T090000
DTEND;TZID=America/New_York:20230423T140000
DTSTAMP:20260424T031205
CREATED:20230420T011836Z
LAST-MODIFIED:20230420T011837Z
UID:8680-1682240400-1682258400@hartleyshawgs.com
SUMMARY:Pond Tournament
DESCRIPTION:Pond Tournament for Hartley’s Hawgs and Walnut Springs Members in Urbana.  Cookout lunch provided.
URL:https://hartleyshawgs.com/event/pond-tournament/
LOCATION:North Point Lake\, Urbana\, Ohio
END:VEVENT
BEGIN:VEVENT
DTSTART;TZID=America/New_York:20230324T170000
DTEND;TZID=America/New_York:20230324T200000
DTSTAMP:20260424T031205
CREATED:20230221T012332Z
LAST-MODIFIED:20230221T012613Z
UID:8254-1679677200-1679688000@hartleyshawgs.com
SUMMARY:Fishing Fryday event at Public Lands
DESCRIPTION:Public Lands at Polaris has invited us to be part of this event.  We will be setting up a tables to promote the Hartley’s Hawgs and also the Hoover Fishing Seminar.  From Public Lands\, “The store will have several sales and promos going all weekend long\, and we will have a food truck on site serving fried fish\, as well as other snacks and beverages in the store.  The highlight of these events for us is the chance to engage our community partners and share all the good work they are doing.”
URL:https://hartleyshawgs.com/event/fishing-fryday-event-at-public-lands/
LOCATION:Public Lands\, 1510 Polaris Parkway\, Columbus\, Ohio\, 43240
CATEGORIES:Events
END:VEVENT
BEGIN:VEVENT
DTSTART;TZID=America/New_York:20230319T140000
DTEND;TZID=America/New_York:20230319T170000
DTSTAMP:20260424T031205
CREATED:20230205T193250Z
LAST-MODIFIED:20230205T193251Z
UID:8122-1679234400-1679245200@hartleyshawgs.com
SUMMARY:Club Meeting - Dave Slonaker Speaker
DESCRIPTION:Club meeting with Dave Slonaker speaking.
URL:https://hartleyshawgs.com/event/club-meeting-dave-slonaker-speaker/
LOCATION:Central City Auto Parts\, 1930 McKinley Ave\, Columbus\, Ohio\, 43222\, United States
END:VEVENT
BEGIN:VEVENT
DTSTART;TZID=America/New_York:20230312T120000
DTEND;TZID=America/New_York:20230312T170000
DTSTAMP:20260424T031205
CREATED:20230205T192658Z
LAST-MODIFIED:20230205T192705Z
UID:8120-1678622400-1678640400@hartleyshawgs.com
SUMMARY:Club Meeting - Lure Making
DESCRIPTION:Club Meeting to demonstrate how to make plastic baits and other lures
URL:https://hartleyshawgs.com/event/club-meeting-lure-making/
LOCATION:Central City Auto Parts\, 1930 McKinley Ave\, Columbus\, Ohio\, 43222\, United States
END:VEVENT
BEGIN:VEVENT
DTSTART;TZID=America/New_York:20230219T140000
DTEND;TZID=America/New_York:20230219T170000
DTSTAMP:20260424T031205
CREATED:20230205T192000Z
LAST-MODIFIED:20230205T193427Z
UID:8118-1676815200-1676826000@hartleyshawgs.com
SUMMARY:Club Meeting - Rich Carter Speaker
DESCRIPTION:Club Meeting to talk about upcoming tournaments and other club business.  Rich Carter will speak about Ohio River Fishing
URL:https://hartleyshawgs.com/event/club-meeting-rich-carter-speaker-2/
LOCATION:Central City Auto Parts\, 1930 McKinley Ave\, Columbus\, Ohio\, 43222\, United States
END:VEVENT
BEGIN:VEVENT
DTSTART;TZID=America/New_York:20230204T080000
DTEND;TZID=America/New_York:20230204T170000
DTSTAMP:20260424T031205
CREATED:20221223T022735Z
LAST-MODIFIED:20221223T022736Z
UID:7664-1675497600-1675530000@hartleyshawgs.com
SUMMARY:Ohio Bass Federation - Annual Meeting
DESCRIPTION:All club members are welcome to attend the OBF Annual meeting.  There will be prizes\, raffles\, auctions and there will also be a breakout session for youth anglers.
URL:https://hartleyshawgs.com/event/ohio-bass-federation-annual-meeting-2/
LOCATION:Quest Conf Center\, 8405 Pulsar Place\, Columbus\, Ohio\, 43240\, United States
CATEGORIES:Events
END:VEVENT
BEGIN:VEVENT
DTSTART;TZID=America/New_York:20230128T070000
DTEND;TZID=America/New_York:20230128T150000
DTSTAMP:20260424T031205
CREATED:20221006T011404Z
LAST-MODIFIED:20221201T221512Z
UID:7038-1674889200-1674918000@hartleyshawgs.com
SUMMARY:Hoover Fishing Seminar
DESCRIPTION:The Hoover Fishing Seminar is back.  We have lots of cool stuff planned for this event.  Hope to see you there.  To find out more checkout the Hoover Fishing Seminar main page
URL:https://hartleyshawgs.com/event/hoover-fishing-seminar-2/
LOCATION:Walnut Springs Middle School\, 888 East Walnut Street\, Westerville\, Ohio\, 43081\, United States
CATEGORIES:Events
END:VEVENT
BEGIN:VEVENT
DTSTART;TZID=America/New_York:20230127T150000
DTEND;TZID=America/New_York:20230127T183000
DTSTAMP:20260424T031205
CREATED:20221201T221343Z
LAST-MODIFIED:20221201T221344Z
UID:7489-1674831600-1674844200@hartleyshawgs.com
SUMMARY:HFS Setup
DESCRIPTION:Will need some club members/parents to assist with setup of the school for Hoover Fishing Seminar
URL:https://hartleyshawgs.com/event/hfs-setup/
LOCATION:Walnut Springs Middle School\, 888 East Walnut Street\, Westerville\, Ohio\, 43081\, United States
CATEGORIES:Events
END:VEVENT
BEGIN:VEVENT
DTSTART;TZID=America/New_York:20230122T140000
DTEND;TZID=America/New_York:20230122T170000
DTSTAMP:20260424T031205
CREATED:20221201T221135Z
LAST-MODIFIED:20230122T182901Z
UID:7485-1674396000-1674406800@hartleyshawgs.com
SUMMARY:Club Meeting
DESCRIPTION:IN-PERSON MEETING CANCELLED DUE TO INCLEMENT WEATHER.  WORKING ON SETTING UP A VIRTUAL MEETING.  CHECK BACK HERE FOR MORE INFO.   \n\n\n\nLink to virtual meeting starting at 2:00 PM:  https://meet.google.com/aoe-xgpe-zkd?hs=224 \n\n\n\nMeeting to talk over HFS Prep.  Will also have Jeremy Reese speaking to the club
URL:https://hartleyshawgs.com/event/club-meeting-9/
LOCATION:Central City Auto Parts\, 1930 McKinley Ave\, Columbus\, Ohio\, 43222\, United States
CATEGORIES:Events
END:VEVENT
BEGIN:VEVENT
DTSTART;TZID=America/New_York:20230108T140000
DTEND;TZID=America/New_York:20230108T170000
DTSTAMP:20260424T031205
CREATED:20221201T220900Z
LAST-MODIFIED:20221228T194051Z
UID:7483-1673186400-1673197200@hartleyshawgs.com
SUMMARY:Club Meeting - Speaker Scott Cooke
DESCRIPTION:Will be talking about Hoover Fishing Seminar Prep and will also have Scott Cooke speaking to the group.
URL:https://hartleyshawgs.com/event/club-meeting-8/
LOCATION:Central City Auto Parts\, 1930 McKinley Ave\, Columbus\, Ohio\, 43222\, United States
CATEGORIES:Events
END:VEVENT
BEGIN:VEVENT
DTSTART;TZID=America/New_York:20221211T130000
DTEND;TZID=America/New_York:20221211T170000
DTSTAMP:20260424T031205
CREATED:20221201T220551Z
LAST-MODIFIED:20221201T220553Z
UID:7481-1670763600-1670778000@hartleyshawgs.com
SUMMARY:Club Meeting - Dues/Forms Collection
DESCRIPTION:Getting together to talk about Club Signup\, Dues\, and Forms.  Also will have Joe Hatfield talking about Hoover Fishing Seminar and sharing some catfishing tips/tricks.  More details regarding food and logistics coming soon
URL:https://hartleyshawgs.com/event/club-meeting-dues-forms-collection/
CATEGORIES:Events
END:VEVENT
BEGIN:VEVENT
DTSTART;TZID=America/New_York:20220910T060000
DTEND;TZID=America/New_York:20220910T160000
DTSTAMP:20260424T031205
CREATED:20211110T011219Z
LAST-MODIFIED:20211110T011220Z
UID:4774-1662789600-1662825600@hartleyshawgs.com
SUMMARY:MLF HS Open
DESCRIPTION:MLF High School Open on Lake Erie
URL:https://hartleyshawgs.com/event/mlf-hs-open/
LOCATION:Lake Erie – Shelby St Ramp\, 101 Shelby Street\, Sandusky\, Ohio\, 44870\, United States
CATEGORIES:Tournaments
END:VEVENT
BEGIN:VEVENT
DTSTART;TZID=America/New_York:20220827T050000
DTEND;TZID=America/New_York:20220827T170000
DTSTAMP:20260424T031205
CREATED:20220122T182807Z
LAST-MODIFIED:20220122T182808Z
UID:5046-1661576400-1661619600@hartleyshawgs.com
SUMMARY:FOM 2022 Event #3 - Lake Erie
DESCRIPTION:Event #3 of the FOM High School Series at Lake Erie – East Harbor.  Series winner earns qualification into 2023 SAF National Fishing Championship.
URL:https://hartleyshawgs.com/event/fom-2022-event-3-lake-erie/
LOCATION:Lake Erie – East Harbor
CATEGORIES:Tournaments
END:VEVENT
BEGIN:VEVENT
DTSTART;TZID=America/New_York:20220730T050000
DTEND;TZID=America/New_York:20220730T170000
DTSTAMP:20260424T031205
CREATED:20220122T182510Z
LAST-MODIFIED:20220122T182511Z
UID:5044-1659157200-1659200400@hartleyshawgs.com
SUMMARY:FOM 2022 Event #2 - Rocky Fork Lake
DESCRIPTION:Event #2 of the FOM High School Series at Rocky Fork Lake – North Shore Ramp.  Series winner earns qualification into 2023 SAF National Fishing Championship.
URL:https://hartleyshawgs.com/event/fom-2022-event-2-rocky-fork-lake/
LOCATION:Rocky Fork Lake
CATEGORIES:Tournaments
END:VEVENT
BEGIN:VEVENT
DTSTART;TZID=America/New_York:20220717T080000
DTEND;TZID=America/New_York:20220717T170000
DTSTAMP:20260424T031205
CREATED:20220107T120528Z
LAST-MODIFIED:20220107T120530Z
UID:4979-1658044800-1658077200@hartleyshawgs.com
SUMMARY:OBF High School Championship
DESCRIPTION:OBF High School Championship on Sandusky Bay
URL:https://hartleyshawgs.com/event/obf-high-school-championship/
LOCATION:Sandusky Bay – Shelby St Ramp\, 101 Shelby Street\, Sandusky\, Ohio\, 44870\, United States
CATEGORIES:Tournaments
END:VEVENT
BEGIN:VEVENT
DTSTART;TZID=America/New_York:20220622T080000
DTEND;TZID=America/New_York:20220625T170000
DTSTAMP:20260424T031205
CREATED:20211110T011035Z
LAST-MODIFIED:20211110T011036Z
UID:4770-1655884800-1656176400@hartleyshawgs.com
SUMMARY:SAF HS National Championship and World Finals
DESCRIPTION:SAF HS Fishing National Championship and World Finals being held on Pickwick Lake.
URL:https://hartleyshawgs.com/event/saf-hs-national-championship-and-world-finals/
LOCATION:Pickwick Lake\, Florence\, Alabama
CATEGORIES:Tournaments
END:VEVENT
BEGIN:VEVENT
DTSTART;TZID=America/New_York:20220618T050000
DTEND;TZID=America/New_York:20220618T170000
DTSTAMP:20260424T031205
CREATED:20220122T182127Z
LAST-MODIFIED:20220122T182128Z
UID:5042-1655528400-1655571600@hartleyshawgs.com
SUMMARY:FOM 2022 Event #1 - Deer Creek
DESCRIPTION:Event #1 of the FOM High School Series at Deer Creek Lake – Marina Ramp.  Series winner earns qualification into 2023 SAF National Fishing Championship.
URL:https://hartleyshawgs.com/event/fom-2022-event-1-deer-creek/
CATEGORIES:Tournaments
END:VEVENT
BEGIN:VEVENT
DTSTART;TZID=America/New_York:20220611T060000
DTEND;TZID=America/New_York:20220611T160000
DTSTAMP:20260424T031205
CREATED:20211110T010823Z
LAST-MODIFIED:20211110T010824Z
UID:4768-1654927200-1654963200@hartleyshawgs.com
SUMMARY:BASS HS Open
DESCRIPTION:BASS HS Open on Saginaw Bay.  Top Finishers qualify for BASS National Championship.
URL:https://hartleyshawgs.com/event/bass-hs-open/
CATEGORIES:Tournaments
END:VEVENT
BEGIN:VEVENT
DTSTART;TZID=America/New_York:20220604T060000
DTEND;TZID=America/New_York:20220604T150000
DTSTAMP:20260424T031205
CREATED:20211110T010615Z
LAST-MODIFIED:20211110T010616Z
UID:4764-1654322400-1654354800@hartleyshawgs.com
SUMMARY:SAF State HS Championship
DESCRIPTION:SAF State Tourney on Ohio River (Gallipolis).  Top 10% qualify for MLF National Championship.
URL:https://hartleyshawgs.com/event/saf-state-hs-championship/
LOCATION:Gallipolis\, Ohio\, Gallipolis\, Ohio
CATEGORIES:Tournaments
END:VEVENT
BEGIN:VEVENT
DTSTART;TZID=America/New_York:20220507T050000
DTEND;TZID=America/New_York:20220507T170000
DTSTAMP:20260424T031205
CREATED:20220107T115825Z
LAST-MODIFIED:20220107T115826Z
UID:4972-1651899600-1651942800@hartleyshawgs.com
SUMMARY:OBF Junior State Championship
DESCRIPTION:The Ohio Bass Federation Junior Championship on O’Shaughnessy Reservior for kids in 8th Grade and below.  High finishers qualify for the TBF Junior World Championship.  Alum Creek Lake is backup lake.
URL:https://hartleyshawgs.com/event/obf-junior-state-championship/
LOCATION:O’Shaugnessy Lake\, 7690 Riverside Drive\, Powell\, Ohio\, 43015\, United States
CATEGORIES:Tournaments
END:VEVENT
BEGIN:VEVENT
DTSTART;TZID=America/New_York:20220430T050000
DTEND;TZID=America/New_York:20220501T170000
DTSTAMP:20260424T031205
CREATED:20220104T234758Z
LAST-MODIFIED:20220104T234800Z
UID:4944-1651294800-1651424400@hartleyshawgs.com
SUMMARY:Ohio Bass Nation HS & Jr State Championship
DESCRIPTION:The Ohio Bass Nation High School and Jr National Championship.  Top two finishers in each category qualify for the BASS National Championship.
URL:https://hartleyshawgs.com/event/ohio-bass-nation-hs-jr-state-championship/
LOCATION:Rocky Fork Lake
CATEGORIES:Tournaments
END:VEVENT
BEGIN:VEVENT
DTSTART;TZID=America/New_York:20220227T120000
DTEND;TZID=America/New_York:20220227T150000
DTSTAMP:20260424T031205
CREATED:20220122T183617Z
LAST-MODIFIED:20220122T183619Z
UID:5048-1645963200-1645974000@hartleyshawgs.com
SUMMARY:Club Meeting - Jason Root Speaker
DESCRIPTION:Club Meeting being held at Fishermans Central in Port Clinton.  Guest Speaker Jason Root.  Also an opportunity to check out the stores great inventory of tackle and gear.
URL:https://hartleyshawgs.com/event/club-meeting-jason-root-speaker/
LOCATION:Fishermans Central\, 4070 East Harbor Road\, Port Clinton\, Ohio\, 43452\, United States
CATEGORIES:Events
END:VEVENT
BEGIN:VEVENT
DTSTART;TZID=America/New_York:20220212T120000
DTEND;TZID=America/New_York:20220212T140000
DTSTAMP:20260424T031205
CREATED:20220106T212758Z
LAST-MODIFIED:20220206T224136Z
UID:4970-1644667200-1644674400@hartleyshawgs.com
SUMMARY:Club Meeting - Charlie Hartley
DESCRIPTION:Club Meeting with Charlie Hartley speaking to the Club.  Will be setup as a Zoom or Google Meets meeting
URL:https://hartleyshawgs.com/event/club-meeting-charlie-hartley/
CATEGORIES:Events
END:VEVENT
BEGIN:VEVENT
DTSTART;TZID=America/New_York:20220205T090000
DTEND;TZID=America/New_York:20220205T150000
DTSTAMP:20260424T031205
CREATED:20220106T212549Z
LAST-MODIFIED:20220106T212551Z
UID:4968-1644051600-1644073200@hartleyshawgs.com
SUMMARY:OBF Open Meeting
DESCRIPTION:
URL:https://hartleyshawgs.com/event/obf-open-meeting/
CATEGORIES:Events
END:VEVENT
BEGIN:VEVENT
DTSTART;TZID=America/New_York:20220130T150000
DTEND;TZID=America/New_York:20220130T180000
DTSTAMP:20260424T031205
CREATED:20220104T234255Z
LAST-MODIFIED:20220106T212148Z
UID:4942-1643554800-1643565600@hartleyshawgs.com
SUMMARY:Rod Building Class
DESCRIPTION:Club meeting with a Columbus BassMasters member Rich Carter demonstrating some rod-building techniques
URL:https://hartleyshawgs.com/event/rod-building-class/
CATEGORIES:Events
END:VEVENT
END:VCALENDAR